BEGIN:VCALENDAR
VERSION:2.0
PRODID:-//Kravis Center for the Performing Arts //NONSGML Events //EN
CALSCALE:GREGORIAN
X-WR-CALNAME:Kravis Center for the Performing Arts
BEGIN:VEVENT
CREATED:20260310T140032Z
UID:53541
DTEND;VALUE=DATE:20261004T000000Z
DTSTART;VALUE=DATE:20261004T000000Z
DTSTAMP:20260425T161532Z
LOCATION:Alexander W. Dreyfoos Concert Hall
DESCRIPTION:
SUMMARY:KILLERS OF KILL TONY
ORGANIZER:Kravis Center for the Performing Arts
URL;VALUE=URI:https://www.kravis.org/events/killers-of-kill-tony/
TRANSP:OPAQUE
BEGIN:VALARM
ACTION:DISPLAY
TRIGGER;VALUE=DATE-TIME:20261004T000000Z
DESCRIPTION:Reminder for KILLERS OF KILL TONY

END:VALARM
END:VEVENT
END:VCALENDAR