BEGIN:VCALENDAR
VERSION:2.0
PRODID:-//Kravis Center for the Performing Arts //NONSGML Events //EN
CALSCALE:GREGORIAN
X-WR-CALNAME:Kravis Center for the Performing Arts
BEGIN:VEVENT
CREATED:20260218T212202Z
UID:53335
DTEND;VALUE=DATE:20260525T003000Z
DTSTART;VALUE=DATE:20260525T003000Z
DTSTAMP:20260420T044344Z
LOCATION:Alexander W. Dreyfoos Concert Hall
DESCRIPTION:
SUMMARY:SPRING PERFORMANCE 2026  CINDERELLA AND MORE
ORGANIZER:Kravis Center for the Performing Arts
URL;VALUE=URI:https://www.kravis.org/events/spring-performance-2026-cinderella-and-more/
TRANSP:OPAQUE
BEGIN:VALARM
ACTION:DISPLAY
TRIGGER;VALUE=DATE-TIME:20260525T003000Z
DESCRIPTION:Reminder for SPRING PERFORMANCE 2026  CINDERELLA AND MORE

END:VALARM
END:VEVENT
END:VCALENDAR