BEGIN:VCALENDAR
VERSION:2.0
PRODID:-//Kravis Center for the Performing Arts //NONSGML Events //EN
CALSCALE:GREGORIAN
X-WR-CALNAME:Kravis Center for the Performing Arts
BEGIN:VEVENT
CREATED:20260127T170001Z
UID:52612
DTEND;VALUE=DATE:20260503T020000Z
DTSTART;VALUE=DATE:20260503T020000Z
DTSTAMP:20260419T172258Z
LOCATION:Helen K. Persson Hall
DESCRIPTION:
SUMMARY:KEVIN NEALON
ORGANIZER:Kravis Center for the Performing Arts
URL;VALUE=URI:https://www.kravis.org/events/kevin-nealon/
TRANSP:OPAQUE
BEGIN:VALARM
ACTION:DISPLAY
TRIGGER;VALUE=DATE-TIME:20260503T020000Z
DESCRIPTION:Reminder for KEVIN NEALON

END:VALARM
END:VEVENT
END:VCALENDAR