BEGIN:VCALENDAR
VERSION:2.0
PRODID:-//Kravis Center for the Performing Arts //NONSGML Events //EN
CALSCALE:GREGORIAN
X-WR-CALNAME:Kravis Center for the Performing Arts
BEGIN:VEVENT
CREATED:20251204T193919Z
UID:52387
DTEND;VALUE=DATE:20260708T003000Z
DTSTART;VALUE=DATE:20260708T003000Z
DTSTAMP:20260419T140123Z
LOCATION:Alexander W. Dreyfoos Concert Hall
DESCRIPTION:
SUMMARY:TORI AMOS — IN TIMES OF DRAGONS TOUR
ORGANIZER:Kravis Center for the Performing Arts
URL;VALUE=URI:https://www.kravis.org/events/tori-amos-in-times-of-dragons-tour/
TRANSP:OPAQUE
BEGIN:VALARM
ACTION:DISPLAY
TRIGGER;VALUE=DATE-TIME:20260708T003000Z
DESCRIPTION:Reminder for TORI AMOS — IN TIMES OF DRAGONS TOUR

END:VALARM
END:VEVENT
END:VCALENDAR