BEGIN:VCALENDAR
VERSION:2.0
PRODID:-//Kravis Center for the Performing Arts //NONSGML Events //EN
CALSCALE:GREGORIAN
X-WR-CALNAME:Kravis Center for the Performing Arts
BEGIN:VEVENT
CREATED:20250829T160028Z
UID:49696
DTEND;VALUE=DATE:20260509T000000Z
DTSTART;VALUE=DATE:20260509T000000Z
DTSTAMP:20260424T141928Z
LOCATION:Alexander W. Dreyfoos Concert Hall
DESCRIPTION:
SUMMARY:SPOTLIGHT ON YOUNG MUSICIANS
ORGANIZER:Kravis Center for the Performing Arts
URL;VALUE=URI:https://www.kravis.org/events/spotlight-on-young-musicians/
TRANSP:OPAQUE
BEGIN:VALARM
ACTION:DISPLAY
TRIGGER;VALUE=DATE-TIME:20260509T000000Z
DESCRIPTION:Reminder for SPOTLIGHT ON YOUNG MUSICIANS

END:VALARM
END:VEVENT
END:VCALENDAR