BEGIN:VCALENDAR
VERSION:2.0
PRODID:-//Kravis Center for the Performing Arts //NONSGML Events //EN
CALSCALE:GREGORIAN
X-WR-CALNAME:Kravis Center for the Performing Arts
BEGIN:VEVENT
CREATED:20250829T160038Z
UID:49509
DTEND;VALUE=DATE:20260426T000000Z
DTSTART;VALUE=DATE:20260426T000000Z
DTSTAMP:20260422T151218Z
LOCATION:Helen K. Persson Hall
DESCRIPTION:
SUMMARY:ELECTRIC ROOT: LET LOVE LEAD, A CELEBRATION OF BLACK MUSIC
ORGANIZER:Kravis Center for the Performing Arts
URL;VALUE=URI:https://www.kravis.org/events/electric-root-let-love-lead/
TRANSP:OPAQUE
BEGIN:VALARM
ACTION:DISPLAY
TRIGGER;VALUE=DATE-TIME:20260426T000000Z
DESCRIPTION:Reminder for ELECTRIC ROOT: LET LOVE LEAD, A CELEBRATION OF BLACK MUSIC

END:VALARM
END:VEVENT
END:VCALENDAR