BEGIN:VCALENDAR
VERSION:2.0
PRODID:-//Kravis Center for the Performing Arts //NONSGML Events //EN
CALSCALE:GREGORIAN
X-WR-CALNAME:Kravis Center for the Performing Arts
BEGIN:VEVENT
CREATED:20250829T160026Z
UID:48788
DTEND;VALUE=DATE:20260501T000000Z
DTSTART;VALUE=DATE:20260501T000000Z
DTSTAMP:20260420T024845Z
LOCATION:Marshall E. Rinker\, Sr. Playhouse
DESCRIPTION:
SUMMARY:TAKES ALL KINDS: STORIES OF AMERICAN DEMOCRACY
ORGANIZER:Kravis Center for the Performing Arts
URL;VALUE=URI:https://www.kravis.org/events/takes-all-kinds/
TRANSP:OPAQUE
BEGIN:VALARM
ACTION:DISPLAY
TRIGGER;VALUE=DATE-TIME:20260501T000000Z
DESCRIPTION:Reminder for TAKES ALL KINDS: STORIES OF AMERICAN DEMOCRACY

END:VALARM
END:VEVENT
END:VCALENDAR