BEGIN:VCALENDAR
VERSION:2.0
PRODID:-//Kravis Center for the Performing Arts //NONSGML Events //EN
CALSCALE:GREGORIAN
X-WR-CALNAME:Kravis Center for the Performing Arts
BEGIN:VEVENT
CREATED:20250318T184531Z
UID:47282
DTEND;VALUE=DATE:20260606T010000Z
DTSTART;VALUE=DATE:20260606T010000Z
DTSTAMP:20260421T131427Z
LOCATION:Alexander W. Dreyfoos Concert Hall
DESCRIPTION:
SUMMARY:BEETLEJUICE
ORGANIZER:Kravis Center for the Performing Arts
URL;VALUE=URI:https://www.kravis.org/events/beetlejuice/
TRANSP:OPAQUE
BEGIN:VALARM
ACTION:DISPLAY
TRIGGER;VALUE=DATE-TIME:20260606T010000Z
DESCRIPTION:Reminder for BEETLEJUICE

END:VALARM
END:VEVENT
END:VCALENDAR